Workbook
Name Slicer_County: #N/A
Name Slicer_District_Type: #N/A
Name Slicer_Reporting_Period: #N/A

Sheet SUMMARY
C2: CONSOLIDATED TAX DISTRIBUTION
C3: REVENUE SUMMARY BY COUNTY
E4: FISCAL YEAR 2026-27
A7: COUNTY | B7: BCCRT | C7: SCCRT | D7: CIGARETTE | E7: LIQUOR | F7: RPTT | G7: GST | H7: TOTAL
A9: CARSON CITY | B9: =BCCRT!N6 -> 1527776.4 | C9: =SCCRT!N6 -> 5448285.6 | D9: ='CIG TAX'!N6 -> 17133.92 | E9: ='LIQ TAX'!N6 -> 14155.86 | F9: =RPTT!N6 -> 0 | G9: ='Gov''t Services'!N6 -> 654324.32 | H9: =SUM(B9:G9) -> 7661676.1
A10: CHURCHILL | B10: =BCCRT!N7 -> 446496.16 | C10: =SCCRT!N7 -> 1449653.7 | D10: ='CIG TAX'!N7 -> 7575.82 | E10: ='LIQ TAX'!N7 -> 6259.06 | F10: =RPTT!N7 -> 0 | G10: ='Gov''t Services'!N7 -> 305093.96 | H10: =SUM(B10:G10) -> 2215078.7
A11: CLARK | B11: =BCCRT!N8 -> 53256381 | C11: =SCCRT!N8 -> 1.8546131e+08 | D11: ='CIG TAX'!N8 -> 677897.23 | E11: ='LIQ TAX'!N8 -> 560071.19 | F11: =RPTT!N8 -> 0 | G11: ='Gov''t Services'!N8 -> 27587279 | H11: =SUM(B11:G11) -> 2.6754293e+08
A12: DOUGLAS | B12: =BCCRT!N9 -> 1164843.5 | C12: =SCCRT!N9 -> 4001045.2 | D12: ='CIG TAX'!N9 -> 15821.91 | E12: ='LIQ TAX'!N9 -> 13071.89 | F12: =RPTT!N9 -> 0 | G12: ='Gov''t Services'!N9 -> 690216.36 | H12: =SUM(B12:G12) -> 5884998.9
A13: ELKO | B13: =BCCRT!N10 -> 1741538.8 | C13: =SCCRT!N10 -> 6402069.7 | D13: ='CIG TAX'!N10 -> 16066.1 | E13: ='LIQ TAX'!N10 -> 13273.63 | F13: =RPTT!N10 -> 87260.8 | G13: ='Gov''t Services'!N10 -> 1022330.9 | H13: =SUM(B13:G13) -> 9282539.9
A14: ESMERALDA | B14: =BCCRT!N11 -> 71530.4 | C14: =SCCRT!N11 -> 255137.56 | D14: ='CIG TAX'!N11 -> 336.93 | E14: ='LIQ TAX'!N11 -> 278.37 | F14: =RPTT!N11 -> 0 | G14: ='Gov''t Services'!N11 -> 34399.97 | H14: =SUM(B14:G14) -> 361683.23
A15: EUREKA | B15: =BCCRT!N12 -> 421588.45 | C15: =SCCRT!N12 -> 1739717.7 | D15: ='CIG TAX'!N12 -> 507.19 | E15: ='LIQ TAX'!N12 -> 419.04 | F15: =RPTT!N12 -> 4837.8 | G15: ='Gov''t Services'!N12 -> 55494.24 | H15: =SUM(B15:G15) -> 2222564.5
A16: HUMBOLDT | B16: =BCCRT!N13 -> 877215.29 | C16: =SCCRT!N13 -> 3401673.7 | D16: ='CIG TAX'!N13 -> 4960.66 | E16: ='LIQ TAX'!N13 -> 4098.45 | F16: =RPTT!N13 -> 0 | G16: ='Gov''t Services'!N13 -> 370838.69 | H16: =SUM(B16:G16) -> 4658786.8
A17: LANDER | B17: =BCCRT!N14 -> 261939.05 | C17: =SCCRT!N14 -> 1004660.5 | D17: ='CIG TAX'!N14 -> 1660.57 | E17: ='LIQ TAX'!N14 -> 1371.95 | F17: =RPTT!N14 -> 22936.65 | G17: ='Gov''t Services'!N14 -> 147819.23 | H17: =SUM(B17:G17) -> 1440387.9
A18: LINCOLN | B18: =BCCRT!N15 -> 49663.91 | C18: =SCCRT!N15 -> 221044.9 | D18: ='CIG TAX'!N15 -> 1292.08 | E18: ='LIQ TAX'!N15 -> 1067.5 | F18: =RPTT!N15 -> 0 | G18: ='Gov''t Services'!N15 -> 87902.17 | H18: =SUM(B18:G18) -> 360970.56
A19: LYON | B19: =BCCRT!N16 -> 1086859 | C19: =SCCRT!N16 -> 3534777.9 | D19: ='CIG TAX'!N16 -> 18314.98 | E19: ='LIQ TAX'!N16 -> 15131.64 | F19: =RPTT!N16 -> 177087.9 | G19: ='Gov''t Services'!N16 -> 864945.77 | H19: =SUM(B19:G19) -> 5697117.2
A20: MINERAL | B20: =BCCRT!N17 -> 60354.64 | C20: =SCCRT!N17 -> 320274.58 | D20: ='CIG TAX'!N17 -> 1301.76 | E20: ='LIQ TAX'!N17 -> 1075.51 | F20: =RPTT!N17 -> 0 | G20: ='Gov''t Services'!N17 -> 83077.04 | H20: =SUM(B20:G20) -> 466083.53
... A25: WHITE PINE | B25: =BCCRT!N22 -> 496843.12 | C25: =SCCRT!N22 -> 1924615.5 | D25: ='CIG TAX'!N22 -> 2833.87 | E25: ='LIQ TAX'!N22 -> 2341.32 | F25: =RPTT!N22 -> 0 | G25: ='Gov''t Services'!N22 -> 174940.65 | H25: =SUM(B25:G25) -> 2601574.5
A27: TOTAL | B27: =SUM(B9:B26) -> 74927277 | C27: =SUM(C9:C26) -> 2.6229506e+08 | D27: =SUM(D9:D26) -> 927266.78 | E27: =SUM(E9:E26) -> 766097.63 | F27: =SUM(F9:F26) -> 2058337 | G27: =SUM(G9:G26) -> 40299031 | H27: =SUM(H9:H26) -> 3.8127307e+08

Sheet BCCRT
A2: BASIC CITY-COUNTY RELIEF TAX - FISCAL YEAR 2026-27
A4: COUNTY | B4: JULY | C4: AUGUST | D4: SEPTEMBER | E4: OCTOBER | F4: NOVEMBER | G4: DECEMBER | H4: JANUARY | I4: FEBRUARY | J4: MARCH | K4: APRIL | L4: MAY | M4: JUNE | N4: YEAR TO DATE
A6: CARSON CITY | B6: 776079.77 | C6: 751696.62 | N6: =SUM(B6:M6) -> 1527776.4
A7: CHURCHILL | B7: 229723.77 | C7: 216772.39 | N7: =SUM(B7:M7) -> 446496.16
A8: CLARK | B8: 26901904 | C8: 26354477 | N8: =SUM(B8:M8) -> 53256381
A9: DOUGLAS | B9: 609990.84 | C9: 554852.69 | N9: =SUM(B9:M9) -> 1164843.5
A10: ELKO | B10: 871434.37 | C10: 870104.4 | N10: =SUM(B10:M10) -> 1741538.8
A11: ESMERALDA | B11: 27646.27 | C11: 43884.13 | N11: =SUM(B11:M11) -> 71530.4
A12: EUREKA | B12: 233756.17 | C12: 187832.28 | N12: =SUM(B12:M12) -> 421588.45
A13: HUMBOLDT | B13: 472256.82 | C13: 404958.47 | N13: =SUM(B13:M13) -> 877215.29
A14: LANDER | B14: 120355.63 | C14: 141583.42 | N14: =SUM(B14:M14) -> 261939.05
A15: LINCOLN | B15: 27209.21 | C15: 22454.7 | N15: =SUM(B15:M15) -> 49663.91
A16: LYON | B16: 539053.92 | C16: 547805.07 | N16: =SUM(B16:M16) -> 1086859
A17: MINERAL | B17: 29702.01 | C17: 30652.63 | N17: =SUM(B17:M17) -> 60354.64
... A22: WHITE PINE | B22: 255186.9 | C22: 241656.22 | N22: =SUM(B22:M22) -> 496843.12
A24: TOTAL | B24: =SUM(B6:B23) -> 37880933 | C24: =SUM(C6:C23) -> 37046343 | D24: =SUM(D6:D23) -> 0 | E24: =SUM(E6:E23) -> 0 | F24: =SUM(F6:F23) -> 0 | G24: =SUM(G6:G23) -> 0 | H24: =SUM(H6:H23) -> 0 | I24: =SUM(I6:I23) -> 0 | ... M24: =SUM(M6:M23) -> 0 | N24: =SUM(N6:N22) -> 74927277
A26: GENERAL FUND | B26: 682626.47 | C26: 665005.24 | N26: =SUM(B26:M26) -> 1347631.7
A27: STAR BONDS | B27: 180435.26 | C27: 136424.68 | N27: =SUM(B27:M27) -> 316859.94
A28: STADIUM DISTRICT | B28: =34102.04+17784.52 -> 51886.56 | C28: 35317.21 | N28: =SUM(B28:M28) -> 87203.77
M29: Total | N29: =SUM(N24:N28) -> 76678972

Sheet SCCRT
A2: SUPPLEMENTAL CITY-COUNTY RELIEF TAX DISTRIBUTION TO THE COUNTY LEVEL FOR FISCAL YEAR 2026-27
A4: COUNTY | B4: JULY | C4: AUGUST | D4: SEPTEMBER | E4: OCTOBER | F4: NOVEMBER | G4: DECEMBER | H4: JANUARY | I4: FEBRUARY | J4: MARCH | K4: APRIL | L4: MAY | M4: JUNE | N4: YEAR TO DATE
A6: CARSON CITY | B6: 2772976.8 | C6: 2675308.8 | N6: =SUM(B6:M6) -> 5448285.6
A7: CHURCHILL | B7: 747783.16 | C7: 701870.55 | N7: =SUM(B7:M7) -> 1449653.7
A8: CLARK | B8: 93709879 | C8: 91751428 | N8: =SUM(B8:M8) -> 1.8546131e+08
A9: DOUGLAS | B9: 2110793.4 | C9: 1890251.8 | N9: =SUM(B9:M9) -> 4001045.2
A10: ELKO | B10: 3206628.5 | C10: 3195441.2 | N10: =SUM(B10:M10) -> 6402069.7
A11: ESMERALDA | B11: 127568.78 | C11: 127568.78 | N11: =SUM(B11:M11) -> 255137.56
A12: EUREKA | B12: 970994.82 | C12: 768722.92 | N12: =SUM(B12:M12) -> 1739717.7
A13: HUMBOLDT | B13: 1846843.5 | C13: 1554830.1 | N13: =SUM(B13:M13) -> 3401673.7
A14: LANDER | B14: 459110.35 | C14: 545550.13 | N14: =SUM(B14:M14) -> 1004660.5
A15: LINCOLN | B15: 110522.45 | C15: 110522.45 | N15: =SUM(B15:M15) -> 221044.9
A16: LYON | B16: 1739109.5 | C16: 1795668.4 | N16: =SUM(B16:M16) -> 3534777.9
A17: MINERAL | B17: 160137.29 | C17: 160137.29 | N17: =SUM(B17:M17) -> 320274.58
... A22: WHITE PINE | B22: 993417.03 | C22: 931198.48 | N22: =SUM(B22:M22) -> 1924615.5
A24: TOTAL | B24: =SUM(B6:B23) -> 1.3267888e+08 | C24: =SUM(C6:C23) -> 1.2961619e+08 | D24: =SUM(D6:D23) -> 0 | E24: =SUM(E6:E23) -> 0 | F24: =SUM(F6:F23) -> 0 | G24: =SUM(G6:G23) -> 0 | H24: =SUM(H6:H23) -> 0 | I24: =SUM(I6:I23) -> 0 | ... M24: =SUM(M6:M23) -> 0 | N24: =SUM(N6:N22) -> 2.6229506e+08
A26: GENERAL FUND | B26: 2389241.8 | C26: 2327524.3 | N26: =SUM(B26:M26) -> 4716766.1
A27: STAR BONDS | B27: 631522.32 | C27: 477486.63 | N27: =SUM(B27:M27) -> 1109008.9
A28: STADIUM DISTRICT | B28: 181603.08 | C28: 123610.22 | N28: =SUM(B28:M28) -> 305213.3
K29: Total | N29: =N24+N26+N27+N28 -> 2.6842605e+08
K30: Less Emergency Fund | N30: 0
K31: Gross Revenue Comparison | N31: =SUM(N29:N30) -> 2.6842605e+08

Sheet CIG TAX
A2: CIGARETTE TAX - FISCAL YEAR 2026-27
A4: COUNTY | B4: JULY | C4: AUGUST | D4: SEPTEMBER | E4: OCTOBER | F4: NOVEMBER | G4: DECEMBER | H4: JANUARY | I4: FEBRUARY | J4: MARCH | K4: APRIL | L4: MAY | M4: JUNE | N4: YEAR TO DATE
A6: CARSON CITY | B6: 8921.54 | C6: 8212.38 | N6: =SUM(B6:M6) -> 17133.92
A7: CHURCHILL | B7: 3944.69 | C7: 3631.13 | N7: =SUM(B7:M7) -> 7575.82
A8: CLARK | B8: 352977.43 | C8: 324919.8 | N8: =SUM(B8:M8) -> 677897.23
A9: DOUGLAS | B9: 8238.38 | C9: 7583.53 | N9: =SUM(B9:M9) -> 15821.91
A10: ELKO | B10: 8365.53 | C10: 7700.57 | N10: =SUM(B10:M10) -> 16066.1
A11: ESMERALDA | B11: 175.44 | C11: 161.49 | N11: =SUM(B11:M11) -> 336.93
A12: EUREKA | B12: 264.09 | C12: 243.1 | N12: =SUM(B12:M12) -> 507.19
A13: HUMBOLDT | B13: 2582.99 | C13: 2377.67 | N13: =SUM(B13:M13) -> 4960.66
A14: LANDER | B14: 864.65 | C14: 795.92 | N14: =SUM(B14:M14) -> 1660.57
A15: LINCOLN | B15: 672.78 | C15: 619.3 | N15: =SUM(B15:M15) -> 1292.08
A16: LYON | B16: 9536.51 | C16: 8778.47 | N16: =SUM(B16:M16) -> 18314.98
A17: MINERAL | B17: 677.82 | C17: 623.94 | N17: =SUM(B17:M17) -> 1301.76
... A22: WHITE PINE | B22: 1475.58 | C22: 1358.29 | N22: =SUM(B22:M22) -> 2833.87
A24: TOTAL | B24: =SUM(B6:B23) -> 482822.8 | C24: =SUM(C6:C23) -> 444443.98 | D24: =SUM(D6:D23) -> 0 | E24: =SUM(E6:E23) -> 0 | F24: =SUM(F6:F23) -> 0 | G24: =SUM(G6:G23) -> 0 | H24: =SUM(H6:H23) -> 0 | I24: =SUM(I6:I23) -> 0 | ... M24: =SUM(M6:M23) -> 0 | N24: =SUM(N6:N22) -> 927266.78
A26: ADMIN. FEES | B26: 35319.67 | C26: 35319.67 | N26: =SUM(B26:M26) -> 70639.34
A27: REFUNDS | B27: 0 | C27: 0 | N27: =SUM(B27:M27) -> 0
A29: STATE SHARE | B29: 8207987.5 | C29: 7555547.7 | N29: =SUM(B29:M29) -> 15763535
A31: TOTAL RECEIPTS | B31: =SUM(B24:B29) -> 8726130 | C31: =SUM(C24:C29) -> 8035311.4 | D31: =SUM(D24:D29) -> 0 | E31: =SUM(E24:E29) -> 0 | F31: =SUM(F24:F29) -> 0 | G31: =SUM(G24:G29) -> 0 | H31: =SUM(H24:H29) -> 0 | I31: =SUM(I24:I29) -> 0 | ... N31: =SUM(N24:N29) -> 16761441
A33: CIG LICENSE FEES | B33: 0 | C33: 152.5 | N33: =SUM(B33:M33) -> 152.5
A34: OTP LICENSE FEES | B34: 0 | C34: 32.5 | N34: =SUM(B34:M34) -> 32.5
A35: ASSESSMENTS | B35: 26842.5 | C35: 72451.5 | N35: =SUM(B35:M35) -> 99294
A36: OTHER TOBACCO PROD. | B36: 3737525 | C36: 3024222 | N36: =SUM(B36:M36) -> 6761747
A37: PACKAGES | B37: 4860000 | C37: 4475250 | N37: =SUM(B37:M37) -> 9335250

Sheet LIQ TAX
A2: LIQUOR TAX - FISCAL YEAR 2026-27
A4: COUNTY | B4: JULY | C4: AUGUST | D4: SEPTEMBER | E4: OCTOBER | F4: NOVEMBER | G4: DECEMBER | H4: JANUARY | I4: FEBRUARY | J4: MARCH | K4: APRIL | L4: MAY | M4: JUNE | N4: YEAR TO DATE
A6: CARSON CITY | B6: 5938.67 | C6: 8217.19 | N6: =SUM(B6:M6) -> 14155.86
A7: CHURCHILL | B7: 2625.8 | C7: 3633.26 | N7: =SUM(B7:M7) -> 6259.06
A8: CLARK | B8: 234961.17 | C8: 325110.02 | N8: =SUM(B8:M8) -> 560071.19
A9: DOUGLAS | B9: 5483.92 | C9: 7587.97 | N9: =SUM(B9:M9) -> 13071.89
A10: ELKO | B10: 5568.56 | C10: 7705.07 | N10: =SUM(B10:M10) -> 13273.63
A11: ESMERALDA | B11: 116.78 | C11: 161.59 | N11: =SUM(B11:M11) -> 278.37
A12: EUREKA | B12: 175.8 | C12: 243.24 | N12: =SUM(B12:M12) -> 419.04
A13: HUMBOLDT | B13: 1719.38 | C13: 2379.07 | N13: =SUM(B13:M13) -> 4098.45
A14: LANDER | B14: 575.56 | C14: 796.39 | N14: =SUM(B14:M14) -> 1371.95
A15: LINCOLN | B15: 447.84 | C15: 619.66 | N15: =SUM(B15:M15) -> 1067.5
A16: LYON | B16: 6348.03 | C16: 8783.61 | N16: =SUM(B16:M16) -> 15131.64
A17: MINERAL | B17: 451.2 | C17: 624.31 | N17: =SUM(B17:M17) -> 1075.51
... A22: WHITE PINE | B22: 982.23 | C22: 1359.09 | N22: =SUM(B22:M22) -> 2341.32
A24: TOTAL | B24: =SUM(B6:B23) -> 321393.43 | C24: =SUM(C6:C23) -> 444704.2 | D24: =SUM(D6:D23) -> 0 | E24: =SUM(E6:E23) -> 0 | F24: =SUM(F6:F23) -> 0 | G24: =SUM(G6:G23) -> 0 | H24: =SUM(H6:H23) -> 0 | I24: =SUM(I6:I23) -> 0 | ... M24: =SUM(M6:M23) -> 0 | N24: =SUM(N6:N22) -> 766097.63
A26: STATE GENERAL FUND | B26: 3738475.7 | C26: 4773628 | N26: =SUM(B26:M26) -> 8512103.7
A27: LIQUOR PROGRAM ACCT | B27: 96462.31 | C27: 134138.63 | N27: =SUM(B27:M27) -> 230600.94
A29: TOTAL DISTRIBUTIONS | B29: =SUM(B24:B27) -> 4156331.5 | C29: =SUM(C24:C27) -> 5352470.8 | D29: =SUM(D24:D27) -> 0 | E29: =SUM(E24:E27) -> 0 | F29: =SUM(F24:F27) -> 0 | G29: =SUM(G24:G27) -> 0 | H29: =SUM(H24:H27) -> 0 | I29: =SUM(I24:I27) -> 0 | ... N29: =SUM(N24:N27) -> 9508802.3
A31: LICENSE/CERT FEES | B31: 0 | C31: 0 | N31: =SUM(B31:M31) -> 0
A33: TOTAL RECEIPTS ($)
A34: MALT KEG | BEER | B34: 864392.56 | C34: 746018.07 | N34: =SUM(B34:M34) -> 1610410.6
A35: UNDER 14% | B35: 717509.59 | C35: 666979.49 | N35: =SUM(B35:M35) -> 1384489.1
A36: 14 - 22% | B36: 255002.91 | C36: 201896.03 | N36: =SUM(B36:M36) -> 456898.94
A37: OVER 22% | B37: 2321647.5 | C37: 2219882.2 | N37: =SUM(B37:M37) -> 4541529.8
A38: TOTAL RECEIPTS | B38: =SUM(B34:B37) -> 4158552.6 | C38: =SUM(C34:C37) -> 3834775.8 | D38: =SUM(D34:D37) -> 0 | E38: =SUM(E34:E37) -> 0 | F38: =SUM(F34:F37) -> 0 | G38: =SUM(G34:G37) -> 0 | H38: =SUM(H34:H37) -> 0 | I38: =SUM(I34:I37) -> 0 | ... N38: =SUM(N34:N37) -> 7993328.4
A40: TOTAL IMPORTS (GAL)
A41: MALT KEG | BEER | B41: 5402453.5 | C41: 4662613 | N41: =SUM(B41:M41) -> 10065066
A42: UNDER 14% - GALLONS | B42: 1025013.7 | C42: 952827.63 | N42: =SUM(B42:M42) -> 1977841.3
A43: 14 - 22% - GALLONS | B43: 196155.9 | C43: 155304.5 | N43: =SUM(B43:M43) -> 351460.4
A44: OVER 22% - GALLONS | B44: 644902.09 | C44: 616633.96 | N44: =SUM(B44:M44) -> 1261536.1
B45: =SUM(B41:B44) -> 7268525.2 | C45: =SUM(C41:C44) -> 6387379.1 | D45: =SUM(D41:D44) -> 0 | E45: =SUM(E41:E44) -> 0 | F45: =SUM(F41:F44) -> 0 | G45: =SUM(G41:G44) -> 0 | H45: =SUM(H41:H44) -> 0 | I45: =SUM(I41:I44) -> 0 | ... N45: =SUM(N41:N44) -> 13655904

Sheet RPTT
A2: REAL PROPERTY TRANSFER TAX - FISCAL YEAR 2026-27
A4: COUNTY | B4: JULY | C4: AUGUST | D4: SEPTEMBER | E4: OCTOBER | F4: NOVEMBER | G4: DECEMBER | H4: JANUARY | I4: FEBRUARY | J4: MARCH | K4: APRIL | L4: MAY | M4: JUNE | N4: YEAR TO DATE
A6: CARSON CITY | N6: =SUM(B6:M6) -> 0
A7: CHURCHILL | N7: =SUM(B7:M7) -> 0
A8: CLARK | N8: =SUM(B8:M8) -> 0
A9: DOUGLAS | N9: =SUM(B9:M9) -> 0
A10: ELKO | B10: 40447.55 | C10: 46813.25 | N10: =SUM(B10:M10) -> 87260.8
A11: ESMERALDA | N11: =SUM(B11:M11) -> 0
A12: EUREKA | B12: 3055.8 | C12: 1782 | N12: =SUM(B12:M12) -> 4837.8
A13: HUMBOLDT | N13: =SUM(B13:M13) -> 0
A14: LANDER | B14: 14517.25 | C14: 8419.4 | N14: =SUM(B14:M14) -> 22936.65
A15: LINCOLN | N15: =SUM(B15:M15) -> 0
A16: LYON | B16: 91281.85 | C16: 85806.05 | N16: =SUM(B16:M16) -> 177087.9
A17: MINERAL | N17: =SUM(B17:M17) -> 0
A18: NYE | N18: =SUM(B18:M18) -> 0
A19: PERSHING | N19: =SUM(B19:M19) -> 0
A20: STOREY | N20: =SUM(B20:M20) -> 0
A21: WASHOE | B21: 1031300.1 | C21: 734913.85 | N21: =SUM(B21:M21) -> 1766213.9
A22: WHITE PINE | N22: =SUM(B22:M22) -> 0
A24: TOTAL | B24: =SUM(B6:B23) -> 1180602.5 | C24: =SUM(C6:C23) -> 877734.55 | D24: =SUM(D6:D23) -> 0 | E24: =SUM(E6:E23) -> 0 | F24: =SUM(F6:F23) -> 0 | G24: =SUM(G6:G23) -> 0 | H24: =SUM(H6:H23) -> 0 | I24: =SUM(I6:I23) -> 0 | ... M24: =SUM(M6:M23) -> 0 | N24: =SUM(N6:N22) -> 2058337

Sheet Gov't Services
A2: GOVERNMENTAL SERVICES TAX - FISCAL YEAR 2026-27
A4: COUNTY | B4: JULY | C4: AUGUST | D4: SEPTEMBER | E4: OCTOBER | F4: NOVEMBER | G4: DECEMBER | H4: JANUARY | I4: FEBRUARY | J4: MARCH | K4: APRIL | L4: MAY | M4: JUNE | N4: YEAR TO DATE
A6: CARSON CITY | B6: 349428.09 | C6: 304896.23 | N6: =SUM(B6:M6) -> 654324.32
A7: CHURCHILL | B7: 169065.18 | C7: 136028.78 | N7: =SUM(B7:M7) -> 305093.96
A8: CLARK | B8: 13963061 | C8: 13624217 | N8: =SUM(B8:M8) -> 27587279
A9: DOUGLAS | B9: 361355.11 | C9: 328861.25 | N9: =SUM(B9:M9) -> 690216.36
A10: ELKO | B10: 575622.04 | C10: 446708.83 | N10: =SUM(B10:M10) -> 1022330.9
A11: ESMERALDA | B11: 25088.48 | C11: 9311.49 | N11: =SUM(B11:M11) -> 34399.97
A12: EUREKA | B12: 38339.46 | C12: 17154.78 | N12: =SUM(B12:M12) -> 55494.24
A13: HUMBOLDT | B13: 225774.99 | C13: 145063.7 | N13: =SUM(B13:M13) -> 370838.69
A14: LANDER | B14: 96085.23 | C14: 51734 | N14: =SUM(B14:M14) -> 147819.23
A15: LINCOLN | B15: 56607.89 | C15: 31294.28 | N15: =SUM(B15:M15) -> 87902.17
A16: LYON | B16: 453813.72 | C16: 411132.05 | N16: =SUM(B16:M16) -> 864945.77
A17: MINERAL | B17: 53435.8 | C17: 29641.24 | N17: =SUM(B17:M17) -> 83077.04
... A22: WHITE PINE | B22: 108950.25 | C22: 65990.4 | N22: =SUM(B22:M22) -> 174940.65
A24: TOTAL | B24: =SUM(B6:B23) -> 20748960 | C24: =SUM(C6:C23) -> 19550071 | D24: =SUM(D6:D23) -> 0 | E24: =SUM(E6:E23) -> 0 | F24: =SUM(F6:F23) -> 0 | G24: =SUM(G6:G23) -> 0 | H24: =SUM(H6:H23) -> 0 | I24: =SUM(I6:I23) -> 0 | ... M24: =SUM(M6:M23) -> 0 | N24: =SUM(N6:N22) -> 40299031

Sheet CTX DISTRIBUTION
A1: Sum of Calculated Total | B1: Column Labels
A2: Row Labels | B2: 46234 | C2: 46265 | D2: Grand Total
A3: Carson City | B3: 3913344.9 | C3: 3748331.3 | D3: 7661676.1
A4: Carson City | B4: 3908336.6 | C4: 3743534.2 | D4: 7651870.9
A5: Carson-Truckee Water Conservancy | B5: 5008.21 | C5: 4797.03 | D5: 9805.24
A6: Churchill | B6: 1153142.6 | C6: 1061936.1 | D6: 2215078.7
A7: Carson-Truckee Water Conservancy | B7: 1294.05 | C7: 1192.14 | D7: 2486.19
A8: Churchill County | B8: 860839.7 | C8: 792844.19 | D8: 1653683.9
A9: Churchill Mosquito Abatement GID | B9: 43036.84 | C9: 39647.63 | D9: 82684.47
A10: Fallon | B10: 247972.01 | C10: 228252.15 | D10: 476224.16
A11: Clark | B11: 1.3516278e+08 | C11: 1.3238015e+08 | D11: 2.6754293e+08
A12: Boulder City | B12: 1236494.4 | C12: 1211038.2 | D12: 2447532.5
A13: Boulder Library District | B13: 74871.87 | C13: 73330.46 | D13: 148202.33
A14: Bunkerville | B14: 57794.11 | C14: 56604.28 | D14: 114398.39
... A169: Grand Total | B169: 1.9329359e+08 | C169: 1.8797949e+08 | D169: 3.8127307e+08

Sheet CTX DIST data
A1: Fiscal Year | B1: Reporting Period | C1: County | D1: District Type | E1: Entity Name | F1: Calculated Total | G1: Adjusted Total | H1: Column1 | I1: Column2
A2: 46568 | B2: 46234 | C2: Carson City | D2: Local Government | E2: Carson City | F2: 3908336.6 | G2: 3908336.6 | H2: =Table1[[#This Row],[Calculated Total]]=Table1[[#This Row],[Adjusted Total]] -> TRUE | I2: =Table1[[#This Row],[Adjusted Total]]-Table1[[#This Row],[Calculated Total]] -> 0
A3: 46568 | B3: 46234 | C3: Carson City | D3: Special District | E3: Carson-Truckee Water Conservancy | F3: 5008.21 | G3: 5008.21 | H3: =Table1[[#This Row],[Calculated Total]]=Table1[[#This Row],[Adjusted Total]] -> TRUE | I3: =Table1[[#This Row],[Adjusted Total]]-Table1[[#This Row],[Calculated Total]] -> 0
A4: 46568 | B4: 46234 | C4: Churchill | D4: Local Government | E4: Churchill County | F4: 860839.7 | G4: 860839.7 | H4: =Table1[[#This Row],[Calculated Total]]=Table1[[#This Row],[Adjusted Total]] -> TRUE | I4: =Table1[[#This Row],[Adjusted Total]]-Table1[[#This Row],[Calculated Total]] -> 0
A5: 46568 | B5: 46234 | C5: Churchill | D5: Local Government | E5: Fallon | F5: 247972.01 | G5: 247972.01 | H5: =Table1[[#This Row],[Calculated Total]]=Table1[[#This Row],[Adjusted Total]] -> TRUE | I5: =Table1[[#This Row],[Adjusted Total]]-Table1[[#This Row],[Calculated Total]] -> 0
A6: 46568 | B6: 46234 | C6: Churchill | D6: Special District | E6: Carson-Truckee Water Conservancy | F6: 1294.05 | G6: 1294.05 | H6: =Table1[[#This Row],[Calculated Total]]=Table1[[#This Row],[Adjusted Total]] -> TRUE | I6: =Table1[[#This Row],[Adjusted Total]]-Table1[[#This Row],[Calculated Total]] -> 0
A7: 46568 | B7: 46234 | C7: Churchill | D7: Special District | E7: Churchill Mosquito Abatement GID | F7: 43036.84 | G7: 43036.84 | H7: =Table1[[#This Row],[Calculated Total]]=Table1[[#This Row],[Adjusted Total]] -> TRUE | I7: =Table1[[#This Row],[Adjusted Total]]-Table1[[#This Row],[Calculated Total]] -> 0
A8: 46568 | B8: 46234 | C8: Clark | D8: Enterprise District | E8: Kyle Canyon Water District | F8: 862.17 | G8: 862.17 | H8: =Table1[[#This Row],[Calculated Total]]=Table1[[#This Row],[Adjusted Total]] -> TRUE | I8: =Table1[[#This Row],[Adjusted Total]]-Table1[[#This Row],[Calculated Total]] -> 0
A9: 46568 | B9: 46234 | C9: Clark | D9: Local Government | E9: Boulder City | F9: 1236494.4 | G9: 1236494.4 | H9: =Table1[[#This Row],[Calculated Total]]=Table1[[#This Row],[Adjusted Total]] -> TRUE | I9: =Table1[[#This Row],[Adjusted Total]]-Table1[[#This Row],[Calculated Total]] -> 0
A10: 46568 | B10: 46234 | C10: Clark | D10: Local Government | E10: Bunkerville | F10: 57794.11 | G10: 57794.11 | H10: =Table1[[#This Row],[Calculated Total]]=Table1[[#This Row],[Adjusted Total]] -> TRUE | I10: =Table1[[#This Row],[Adjusted Total]]-Table1[[#This Row],[Calculated Total]] -> 0
A11: 46568 | B11: 46234 | C11: Clark | D11: Local Government | E11: Clark County | F11: 48254503 | G11: 48254503 | H11: =Table1[[#This Row],[Calculated Total]]=Table1[[#This Row],[Adjusted Total]] -> TRUE | I11: =Table1[[#This Row],[Adjusted Total]]-Table1[[#This Row],[Calculated Total]] -> 0
A12: 46568 | B12: 46234 | C12: Clark | D12: Local Government | E12: Enterprise | F12: 765783.9 | G12: 765783.9 | H12: =Table1[[#This Row],[Calculated Total]]=Table1[[#This Row],[Adjusted Total]] -> TRUE | I12: =Table1[[#This Row],[Adjusted Total]]-Table1[[#This Row],[Calculated Total]] -> 0
A13: 46568 | B13: 46234 | C13: Clark | D13: Local Government | E13: Henderson | F13: 14150964 | G13: 14150964 | H13: =Table1[[#This Row],[Calculated Total]]=Table1[[#This Row],[Adjusted Total]] -> TRUE | I13: =Table1[[#This Row],[Adjusted Total]]-Table1[[#This Row],[Calculated Total]] -> 0
... A299: 46568 | B299: 46265 | C299: White Pine | D299: Special District | E299: White Pine Hospital District | F299: 92523.07 | G299: 92523.07 | H299: =Table1[[#This Row],[Calculated Total]]=Table1[[#This Row],[Adjusted Total]] -> TRUE | I299: =Table1[[#This Row],[Adjusted Total]]-Table1[[#This Row],[Calculated Total]] -> 0
H300: =Table1[[#This Row],[Calculated Total]]=Table1[[#This Row],[Adjusted Total]] -> TRUE | I300: =Table1[[#This Row],[Adjusted Total]]-Table1[[#This Row],[Calculated Total]] -> 0
H301: =Table1[[#This Row],[Calculated Total]]=Table1[[#This Row],[Adjusted Total]] -> TRUE | I301: =Table1[[#This Row],[Adjusted Total]]-Table1[[#This Row],[Calculated Total]] -> 0
H302: =Table1[[#This Row],[Calculated Total]]=Table1[[#This Row],[Adjusted Total]] -> TRUE | I302: =Table1[[#This Row],[Adjusted Total]]-Table1[[#This Row],[Calculated Total]] -> 0
H303: =Table1[[#This Row],[Calculated Total]]=Table1[[#This Row],[Adjusted Total]] -> TRUE | I303: =Table1[[#This Row],[Adjusted Total]]-Table1[[#This Row],[Calculated Total]] -> 0
H304: =Table1[[#This Row],[Calculated Total]]=Table1[[#This Row],[Adjusted Total]] -> TRUE | I304: =Table1[[#This Row],[Adjusted Total]]-Table1[[#This Row],[Calculated Total]] -> 0
H305: =Table1[[#This Row],[Calculated Total]]=Table1[[#This Row],[Adjusted Total]] -> TRUE | I305: =Table1[[#This Row],[Adjusted Total]]-Table1[[#This Row],[Calculated Total]] -> 0
H306: =Table1[[#This Row],[Calculated Total]]=Table1[[#This Row],[Adjusted Total]] -> TRUE | I306: =Table1[[#This Row],[Adjusted Total]]-Table1[[#This Row],[Calculated Total]] -> 0
H307: =Table1[[#This Row],[Calculated Total]]=Table1[[#This Row],[Adjusted Total]] -> TRUE | I307: =Table1[[#This Row],[Adjusted Total]]-Table1[[#This Row],[Calculated Total]] -> 0
H308: =Table1[[#This Row],[Calculated Total]]=Table1[[#This Row],[Adjusted Total]] -> TRUE | I308: =Table1[[#This Row],[Adjusted Total]]-Table1[[#This Row],[Calculated Total]] -> 0
H309: =Table1[[#This Row],[Calculated Total]]=Table1[[#This Row],[Adjusted Total]] -> TRUE | I309: =Table1[[#This Row],[Adjusted Total]]-Table1[[#This Row],[Calculated Total]] -> 0
H310: =Table1[[#This Row],[Calculated Total]]=Table1[[#This Row],[Adjusted Total]] -> TRUE | I310: =Table1[[#This Row],[Adjusted Total]]-Table1[[#This Row],[Calculated Total]] -> 0
H311: =Table1[[#This Row],[Calculated Total]]=Table1[[#This Row],[Adjusted Total]] -> TRUE | I311: =Table1[[#This Row],[Adjusted Total]]-Table1[[#This Row],[Calculated Total]] -> 0
... H1789: =Table1[[#This Row],[Calculated Total]]=Table1[[#This Row],[Adjusted Total]] -> TRUE | I1789: =Table1[[#This Row],[Adjusted Total]]-Table1[[#This Row],[Calculated Total]] -> 0

Sheet MONTHLY CL
A2: MONTHLY CLARK COUNTY CTX DISTRIBUTIONS FISCAL YEAR 2026-27 - MODIFIED DISTRIBUTION
A5: ENTITY | B5: JULY | C5: AUGUST | D5: SEPTEMBER | E5: OCTOBER | F5: NOVEMBER | G5: DECEMBER | H5: JANUARY | I5: FEBRUARY | J5: MARCH | K5: APRIL | L5: MAY | M5: JUNE | N5: TOTAL
A6: THE COUNTY OF CLARK
A7: SB450 Modified Distribution
A9: Kyle Canyon Water District | B9: 862.17 | C9: 862.17 | N9: =SUM(B9:M9) -> 1724.34
A10: Boulder City | B10: 1236494.4 | C10: 1211038.2 | N10: =SUM(B10:M10) -> 2447532.5
A11: Bunkerville | B11: 57794.11 | C11: 56604.28 | N11: =SUM(B11:M11) -> 114398.39
A12: Clark County | B12: 48254503 | C12: 47261069 | N12: =SUM(B12:M12) -> 95515572
A13: Enterprise | B13: 765783.9 | C13: 750018.41 | N13: =SUM(B13:M13) -> 1515802.3
A14: Henderson | B14: 14150964 | C14: 13859633 | N14: =SUM(B14:M14) -> 28010597
A15: Las Vegas | B15: 36386306 | C15: 35637207 | N15: =SUM(B15:M15) -> 72023512
A16: Laughlin | B16: 949250.21 | C16: 929707.63 | N16: =SUM(B16:M16) -> 1878957.8
A17: Mesquite | B17: 1199421.9 | C17: 1174729 | N17: =SUM(B17:M17) -> 2374150.9
A18: Moapa Valley | B18: 89773.1 | C18: 87924.9 | N18: =SUM(B18:M18) -> 177698
A19: North Las Vegas | B19: 7369205.2 | C19: 7212345.6 | N19: =SUM(B19:M19) -> 14581551
A20: Paradise | B20: 8409849.1 | C20: 8236712.2 | N20: =SUM(B20:M20) -> 16646561
... A32: Mt Charleston Fire Protection | B32: 18278.35 | C32: 17902.05 | N32: =SUM(B32:M32) -> 36180.4
A34: TOTAL CLARK COUNTY | B34: =SUM(B9:B32) -> 1.3491278e+08 | C34: =SUM(C9:C32) -> 1.3213015e+08 | D34: =SUM(D9:D32) -> 0 | E34: =SUM(E9:E32) -> 0 | F34: =SUM(F9:F32) -> 0 | G34: =SUM(G9:G32) -> 0 | H34: =SUM(H9:H32) -> 0 | I34: =SUM(I9:I32) -> 0 | ... N34: =SUM(N9:N32) -> 2.6704293e+08
A36: Clark County's distribution reflects an alternate formula created by Senate Bill 450, Section 11.5 (82nd Session, 2023), affecting North Las Vegas and the Department of Business and Industry.

Sheet MONTHLY LY
A2: MONTHLY LYON COUNTY CTX DISTRIBUTIONS FISCAL YEAR 2026-27 - INTERLOCAL AGREEMENT
A5: ENTITY | B5: JULY | C5: AUGUST | D5: SEPTEMBER | E5: OCTOBER | F5: NOVEMBER | G5: DECEMBER | H5: JANUARY | I5: FEBRUARY | J5: MARCH | K5: APRIL | L5: MAY | M5: JUNE | N5: TOTAL
A6: THE COUNTY OF LYON
A7: INTERLOCAL AGREEMENT
A9: Stagecoach GID | B9: 1588.67 | C9: 1588.67 | N9: =SUM(B9:M9) -> 3177.34
A10: Willowcreek GID | B10: 191.97 | C10: 191.97 | N10: =SUM(B10:M10) -> 383.94
A11: Fernley | B11: 26425.61 | C11: 26604.74 | N11: =SUM(B11:M11) -> 53030.35
A12: Lyon County | B12: 2494634.1 | C12: 2511337.4 | N12: =SUM(B12:M12) -> 5005971.5
A13: Yerington | B13: 90565.44 | C13: 91050.57 | N13: =SUM(B13:M13) -> 181616.01
A14: Carson-Truckee Water Conservancy | B14: 1804.48 | C14: 1816.27 | N14: =SUM(B14:M14) -> 3620.75
A15: Central Lyon Fire Protection | B15: 94934.48 | C15: 95548.95 | N15: =SUM(B15:M15) -> 190483.43
A16: Mason Valley Fire Protection | B16: 13795.49 | C16: 13883.24 | N16: =SUM(B16:M16) -> 27678.73
A17: Mason Valley Mosquito Abatement | B17: 12243.14 | C17: 12321.74 | N17: =SUM(B17:M17) -> 24564.88
A18: North Lyon Fire Protection | B18: 27075.21 | C18: 27251.55 | N18: =SUM(B18:M18) -> 54326.76
A19: Silver Springs Stagecoach Hospital | B19: 15610.27 | C19: 15710.08 | N19: =SUM(B19:M19) -> 31320.35
A20: Smith Valley Fire Protection | B20: 9840.81 | C20: 9906.38 | N20: =SUM(B20:M20) -> 19747.19
A21: South Lyon Hospital District | B21: 50433.79 | C21: 50762.13 | N21: =SUM(B21:M21) -> 101195.92
A23: TOTAL LYON COUNTY | B23: =SUM(B9:B21) -> 2839143.5 | C23: =SUM(C9:C21) -> 2857973.7 | D23: =SUM(D9:D21) -> 0 | E23: =SUM(E9:E21) -> 0 | F23: =SUM(F9:F21) -> 0 | G23: =SUM(G9:G21) -> 0 | H23: =SUM(H9:H21) -> 0 | I23: =SUM(I9:I21) -> 0 | ... N23: =SUM(N9:N21) -> 5697117.2
A25: Lyon County's distribution reflects an alternate formula created by an interlocal agreement, between Lyon County and Yerington, as allowed by NRS 360.730.

Sheet MONTHLY WA
A2: MONTHLY WASHOE COUNTY CTX DISTRIBUTIONS FISCAL YEAR 2026-27 - INTERLOCAL AGREEMENT
A5: ENTITY | B5: JULY | C5: AUGUST | D5: SEPTEMBER | E5: OCTOBER | F5: NOVEMBER | G5: DECEMBER | H5: JANUARY | I5: FEBRUARY | J5: MARCH | K5: APRIL | L5: MAY | M5: JUNE | N5: TOTAL
A6: THE COUNTY OF WASHOE
A7: INTERLOCAL AGREEMENT
A9: Sun Valley Water and Sanitation GID | B9: 10995.33 | C9: 10995.33 | N9: =SUM(B9:M9) -> 21990.66
A10: Verdi Television GID | B10: 5324.45 | C10: 5324.45 | N10: =SUM(B10:M10) -> 10648.9
A11: Reno | B11: 9670830.9 | C11: 9441849.6 | N11: =SUM(B11:M11) -> 19112680
A12: Sparks | B12: 3894277.5 | C12: 3798340.1 | N12: =SUM(B12:M12) -> 7692617.7
A13: Washoe County | B13: 15891621 | C13: 15525808 | N13: =SUM(B13:M13) -> 31417430
A14: Carson-Truckee Water Conservancy | B14: 28444.27 | C14: 27874.51 | N14: =SUM(B14:M14) -> 56318.78
A15: Incline Village GID | B15: 172881.25 | C15: 169868.3 | N15: =SUM(B15:M15) -> 342749.55
A16: North Lake Tahoe Fire Protection | B16: 455170.07 | C16: 447086.81 | N16: =SUM(B16:M16) -> 902256.88
A17: Palomino Valley GID | B17: 57694.08 | C17: 56228.07 | N17: =SUM(B17:M17) -> 113922.15
A18: Truckee Meadows Fire Protection | B18: 1122889.3 | C18: 1101360.2 | N18: =SUM(B18:M18) -> 2224249.5
A20: TOTAL WASHOE COUNTY | B20: =SUM(B9:B18) -> 31310129 | C20: =SUM(C9:C18) -> 30584736 | D20: =SUM(D9:D18) -> 0 | E20: =SUM(E9:E19) -> 0 | F20: =SUM(F9:F19) -> 0 | G20: =SUM(G9:G19) -> 0 | H20: =SUM(H9:H19) -> 0 | I20: =SUM(I9:I19) -> 0 | J20: =SUM(J9:J19) -> 0 | K20: =SUM(K9:K19) -> 0 | L20: =SUM(L9:L19) -> 0 | ... N20: =SUM(N9:N19) -> 61894864
A22: Washoe County's distribution reflects an alternate formula created by an interlocal agreement, between Palomino Valley GID and Truckee Meadows Fire Protection, as allowed by NRS 360.730.

Sheet SCCRT In State
A1: SUPPLEMENTAL CITY-COUNTY RELIEF TAX INSTATE COLLECTIONS FOR FISCAL YEAR 2026-27
A3: COUNTY | B3: JULY | C3: AUGUST | D3: SEPTEMBER | E3: OCTOBER | F3: NOVEMBER | G3: DECEMBER | H3: JANUARY | I3: FEBRUARY | J3: MARCH | K3: APRIL | L3: MAY | M3: JUNE | N3: INSTATE TOTAL
A5: CARSON CITY | B5: 2301403.1 | C5: 2248610.3 | N5: =SUM(B5:M5) -> 4550013.4
A6: CHURCHILL | B6: 620614.83 | C6: 589925.11 | N6: =SUM(B6:M6) -> 1210539.9
A7: CLARK | B7: 77773533 | C7: 77117520 | N7: =SUM(B7:M7) -> 1.5489105e+08
A8: DOUGLAS | B8: 1751831 | C8: 1588765.3 | N8: =SUM(B8:M8) -> 3340596.3
A9: ELKO | B9: 2661307.5 | C9: 2685784.2 | N9: =SUM(B9:M9) -> 5347091.7
A10: ESMERALDA | B10: 88604.46 | C10: 146088.27 | N10: =SUM(B10:M10) -> 234692.73
A11: EUREKA | B11: 805867.01 | C11: 646115.56 | N11: =SUM(B11:M11) -> 1451982.6
A12: HUMBOLDT | B12: 1532768.1 | C12: 1306842.1 | N12: =SUM(B12:M12) -> 2839610.3
A13: LANDER | B13: 381033.51 | C13: 458537.77 | N13: =SUM(B13:M13) -> 839571.28
A14: LINCOLN | B14: 63955.71 | C14: 49812.03 | N14: =SUM(B14:M14) -> 113767.74
A15: LYON | B15: 1443356.2 | C15: 1509267.9 | N15: =SUM(B15:M15) -> 2952624.1
A16: MINERAL | B16: 72441.23 | C16: 78273.63 | N16: =SUM(B16:M16) -> 150714.86
... A21: WHITE PINE | B21: 824476.18 | C21: 782677.14 | N21: =SUM(B21:M21) -> 1607153.3
A23: TOTAL | B23: =SUM(B5:B21) -> 1.1016331e+08 | C23: =SUM(C5:C21) -> 1.0897614e+08 | D23: =SUM(D5:D21) -> 0 | E23: =SUM(E5:E21) -> 0 | F23: =SUM(F5:F21) -> 0 | G23: =SUM(G5:G21) -> 0 | H23: =SUM(H5:H21) -> 0 | I23: =SUM(I5:I21) -> 0 | ... N23: =SUM(N5:N21) -> 2.1913945e+08
A24: OUT OF STATE | B24: =SUM('SCCRT Out of State'!B23) -> 22515568 | C24: 20640044 | D24: =SUM('SCCRT Out of State'!D23) -> 0 | E24: =SUM('SCCRT Out of State'!E23) -> 0 | F24: =SUM('SCCRT Out of State'!F23) -> 0 | G24: =SUM('SCCRT Out of State'!G23) -> 0 | M24: =SUM('SCCRT Out of State'!M23) -> 0 | N24: =SUM(B24:M24) -> 43155612

Sheet SCCRT Out of State
A1: SUPPLEMENTAL CITY-COUNTY RELIEF TAX OUT OF STATE COLLECTIONS FOR FISCAL YEAR 2026-27
N2: OUT OF STATE TOTAL
A3: COUNTY | B3: JULY | C3: AUGUST | D3: SEPTEMBER | E3: OCTOBER | F3: NOVEMBER | G3: DECEMBER | H3: JANUARY | I3: FEBRUARY | J3: MARCH | K3: APRIL | L3: MAY | M3: JUNE
A5: CARSON CITY | B5: 463969.08 | C5: 325050.85 | N5: =SUM(B5:M5) -> 789019.93
A6: CHURCHILL | B6: 109688.16 | C6: 130008.93 | N6: =SUM(B6:M6) -> 239697.09
A7: CLARK | B7: 14369742 | C7: 13368119 | N7: =SUM(B7:M7) -> 27737861
A8: DOUGLAS | B8: 340855.97 | C8: 297685.43 | N8: =SUM(B8:M8) -> 638541.4
A9: ELKO | B9: 635469.51 | C9: 576403.73 | N9: =SUM(B9:M9) -> 1211873.2
A10: ESMERALDA | B10: 19245.71 | C10: 37254.47 | N10: =SUM(B10:M10) -> 56500.18
A11: EUREKA | B11: 221671.27 | C11: 214457.11 | N11: =SUM(B11:M11) -> 436128.38
A12: HUMBOLDT | B12: 468672.85 | C12: 414247.75 | N12: =SUM(B12:M12) -> 882920.6
A13: LANDER | B13: 122380.27 | C13: 130913.85 | N13: =SUM(B13:M13) -> 253294.12
A14: LINCOLN | B14: 25190.12 | C14: 18759.06 | N14: =SUM(B14:M14) -> 43949.18
A15: LYON | B15: 443860.17 | C15: 471964.91 | N15: =SUM(B15:M15) -> 915825.08
A16: MINERAL | B16: 39859.35 | C16: 35629.97 | N16: =SUM(B16:M16) -> 75489.32
... A21: WHITE PINE | B21: 142194.71 | C21: 173006.43 | N21: =SUM(B21:M21) -> 315201.14
A23: TOTAL | B23: =SUM(B5:B22) -> 22515568 | C23: =SUM(C5:C22) -> 20640044 | D23: =SUM(D5:D22) -> 0 | E23: =SUM(E5:E22) -> 0 | F23: =SUM(F5:F22) -> 0 | G23: =SUM(G5:G22) -> 0 | H23: =SUM(H5:H22) -> 0 | I23: =SUM(I5:I22) -> 0 | ... N23: =SUM(N5:N22) -> 43155612

Sheet CTX SCCRT Tier 1 Calculation
A1: SUPPLEMENTAL CITY-COUNTY RELIEF TAX TIER 1 CTX CALCULATIONS
A3: County | B3: Total In State Collections | C3: Total Out of State Collections | D3: Total Collections | E3: Guaranteed County Distribution | F3: Point of Origin County Collections | G3: Point of Origin % of Total | H3: Point of Origin Total Distribution | I3: Total Distribution
A4: Churchill | B4: 589925.11 | C4: 0 | D4: 589925.11 | E4: 0 | F4: 589925.11 | G4: 0.00544 | H4: 701870.55 | I4: 701870.55
A5: Clark | B5: 77117520 | C5: 0 | D5: 77117520 | E5: 0 | F5: 77117520 | G5: 0.711188 | H5: 91751428 | I5: 91751428
A6: Douglas | B6: 1588765.3 | C6: 0 | D6: 1588765.3 | E6: 0 | F6: 1588765.3 | G6: 0.014652 | H6: 1890251.8 | I6: 1890251.8
A7: Elko | B7: 2685784.2 | C7: 0 | D7: 2685784.2 | E7: 0 | F7: 2685784.2 | G7: 0.024769 | H7: 3195441.2 | I7: 3195441.2
A8: Esmeralda | B8: 146088.27 | C8: 0 | D8: 146088.27 | E8: 127568.78 | F8: 0 | G8: 0 | H8: 0 | I8: 127568.78
A9: Eureka | B9: 646115.56 | C9: 0 | D9: 646115.56 | E9: 0 | F9: 646115.56 | G9: 0.005959 | H9: 768722.92 | I9: 768722.92
A10: Humboldt | B10: 1306842.1 | C10: 0 | D10: 1306842.1 | E10: 0 | F10: 1306842.1 | G10: 0.012052 | H10: 1554830.1 | I10: 1554830.1
A11: Lander | B11: 458537.77 | C11: 0 | D11: 458537.77 | E11: 0 | F11: 458537.77 | G11: 0.004229 | H11: 545550.13 | I11: 545550.13
A12: Lincoln | B12: 49812.03 | C12: 0 | D12: 49812.03 | E12: 110522.45 | F12: 0 | G12: 0 | H12: 0 | I12: 110522.45
A13: Lyon | B13: 1509267.9 | C13: 0 | D13: 1509267.9 | E13: 0 | F13: 1509267.9 | G13: 0.013919 | H13: 1795668.4 | I13: 1795668.4
A14: Mineral | B14: 78273.63 | C14: 0 | D14: 78273.63 | E14: 160137.29 | F14: 0 | G14: 0 | H14: 0 | I14: 160137.29
A15: Nye | B15: 1363349.9 | C15: 0 | D15: 1363349.9 | E15: 0 | F15: 1363349.9 | G15: 0.012573 | H15: 1622060.5 | I15: 1622060.5
... A21: Out of State | B21: 0 | C21: 20640044 | D21: 20640044 | E21: 0 | F21: 0 | G21: 0 | H21: 0 | I21: 0
B22: =SUBTOTAL(9,B4:B21) -> 1.0897614e+08 | C22: =SUBTOTAL(9,C4:C21) -> 20640044 | D22: =SUBTOTAL(9,D4:D21) -> 1.2961619e+08 | E22: =SUBTOTAL(9,E4:E21) -> 604877.67 | F22: =SUBTOTAL(9,F4:F21) -> 1.0843463e+08 | G22: =SUBTOTAL(9,G4:G21) -> 1 | H22: =SUBTOTAL(9,H4:H21) -> 1.2901131e+08 | I22: =SUBTOTAL(9,I4:I21) -> 1.2961619e+08
